BEGIN:VCALENDAR
VERSION:2.0
PRODID:-//PC Uitvaart - ECPv6.15.18//NONSGML v1.0//EN
CALSCALE:GREGORIAN
METHOD:PUBLISH
X-WR-CALNAME:PC Uitvaart
X-ORIGINAL-URL:https://www.pc.nl
X-WR-CALDESC:Evenementen voor PC Uitvaart
REFRESH-INTERVAL;VALUE=DURATION:PT1H
X-Robots-Tag:noindex
X-PUBLISHED-TTL:PT1H
BEGIN:VTIMEZONE
TZID:Europe/Amsterdam
BEGIN:DAYLIGHT
TZOFFSETFROM:+0100
TZOFFSETTO:+0200
TZNAME:CEST
DTSTART:20250330T010000
END:DAYLIGHT
BEGIN:STANDARD
TZOFFSETFROM:+0200
TZOFFSETTO:+0100
TZNAME:CET
DTSTART:20251026T010000
END:STANDARD
BEGIN:DAYLIGHT
TZOFFSETFROM:+0100
TZOFFSETTO:+0200
TZNAME:CEST
DTSTART:20260329T010000
END:DAYLIGHT
BEGIN:STANDARD
TZOFFSETFROM:+0200
TZOFFSETTO:+0100
TZNAME:CET
DTSTART:20261025T010000
END:STANDARD
BEGIN:DAYLIGHT
TZOFFSETFROM:+0100
TZOFFSETTO:+0200
TZNAME:CEST
DTSTART:20270328T010000
END:DAYLIGHT
BEGIN:STANDARD
TZOFFSETFROM:+0200
TZOFFSETTO:+0100
TZNAME:CET
DTSTART:20271031T010000
END:STANDARD
END:VTIMEZONE
BEGIN:VEVENT
DTSTART;TZID=Europe/Amsterdam:20260401T110000
DTEND;TZID=Europe/Amsterdam:20260401T120000
DTSTAMP:20260421T185244
CREATED:20260216T100520Z
LAST-MODIFIED:20260224T143847Z
UID:10000037-1775041200-1775044800@www.pc.nl
SUMMARY:Informatie uurtje Purmerend
DESCRIPTION:Speciaal voor alle inwoners van de regio Purmerend organiseert PC Uitvaart een informatie uurtje. Dit houden wij iedere woensdag van 11.00 – 12.00 uur op onze locatie aan de Purmerweg 92a in Purmerend. Tijdens dit informatie uurtje kunt u met onze uitvaartexperts alle denkbare onderwerpen rondom het afscheid bespreken; over wat er allemaal kan\, de kosten\, verzekeringen en vele andere onderwerpen. En u kunt u afscheidswensen vastleggen als u dat wilt.
URL:https://www.pc.nl/evenement/informatie-uurtje-purmerend/2026-04-01/
LOCATION:Crematorium Purmerend\, Purmerweg 92\, Purmerend\, Noord-Holland\, 1441 RC\, Netherlands
CATEGORIES:PC Uitvaart
ATTACH;FMTTYPE=image/jpeg:https://www.pc.nl/app/uploads/2026/02/Purmerend-004.jpg
END:VEVENT
BEGIN:VEVENT
DTSTART;TZID=Europe/Amsterdam:20260408T110000
DTEND;TZID=Europe/Amsterdam:20260408T120000
DTSTAMP:20260421T185244
CREATED:20260216T100520Z
LAST-MODIFIED:20260224T143847Z
UID:10000038-1775646000-1775649600@www.pc.nl
SUMMARY:Informatie uurtje Purmerend
DESCRIPTION:Speciaal voor alle inwoners van de regio Purmerend organiseert PC Uitvaart een informatie uurtje. Dit houden wij iedere woensdag van 11.00 – 12.00 uur op onze locatie aan de Purmerweg 92a in Purmerend. Tijdens dit informatie uurtje kunt u met onze uitvaartexperts alle denkbare onderwerpen rondom het afscheid bespreken; over wat er allemaal kan\, de kosten\, verzekeringen en vele andere onderwerpen. En u kunt u afscheidswensen vastleggen als u dat wilt.
URL:https://www.pc.nl/evenement/informatie-uurtje-purmerend/2026-04-08/
LOCATION:Crematorium Purmerend\, Purmerweg 92\, Purmerend\, Noord-Holland\, 1441 RC\, Netherlands
CATEGORIES:PC Uitvaart
ATTACH;FMTTYPE=image/jpeg:https://www.pc.nl/app/uploads/2026/02/Purmerend-004.jpg
END:VEVENT
BEGIN:VEVENT
DTSTART;TZID=Europe/Amsterdam:20260412T100000
DTEND;TZID=Europe/Amsterdam:20260412T140000
DTSTAMP:20260421T185244
CREATED:20260309T123727Z
LAST-MODIFIED:20260309T123835Z
UID:10000071-1775988000-1776002400@www.pc.nl
SUMMARY:Open Dag Crematorium Purmerend
DESCRIPTION:Op zondag 12 april 2026 openen wij de deuren van Crematorium Purmerend en krijgt u een kijkje achter de schermen op onze nieuwe locatie. \nTijdens de open dag kunt u op een laagdrempelige manier kennismaken met alles rondom afscheid. Verken alle ruimtes\, neem een kijkje in de ovenruimte en stel al uw vragen aan onze medewerkers. Ook kunt u in gesprek gaan met onze afscheidsadviseurs over uw eigen uitvaartwensen. \nTussendoor is er uiteraard tijd voor een kopje koffie of thee met iets lekkers. Ook kinderen zijn van harte welkom; speciaal voor hen is er een speurtocht. \nDatum: Zondag 12 april 2026\nTijd: 10.00 – 14.00 uur\nLocatie: Crematorium Purmerend\, Purmerweg 92\, Purmerend \nKijk voor meer informatie op crematoriumpurmerend.nl/opendag
URL:https://www.pc.nl/evenement/open-dag-crematorium-purmerend/
LOCATION:Crematorium Purmerend\, Purmerweg 92\, Purmerend\, Noord-Holland\, 1441 RC\, Netherlands
CATEGORIES:PC Uitvaart
ATTACH;FMTTYPE=image/jpeg:https://www.pc.nl/app/uploads/2026/02/Purmerend-004.jpg
END:VEVENT
BEGIN:VEVENT
DTSTART;TZID=Europe/Amsterdam:20260415T110000
DTEND;TZID=Europe/Amsterdam:20260415T120000
DTSTAMP:20260421T185244
CREATED:20260216T100520Z
LAST-MODIFIED:20260224T143847Z
UID:10000039-1776250800-1776254400@www.pc.nl
SUMMARY:Informatie uurtje Purmerend
DESCRIPTION:Speciaal voor alle inwoners van de regio Purmerend organiseert PC Uitvaart een informatie uurtje. Dit houden wij iedere woensdag van 11.00 – 12.00 uur op onze locatie aan de Purmerweg 92a in Purmerend. Tijdens dit informatie uurtje kunt u met onze uitvaartexperts alle denkbare onderwerpen rondom het afscheid bespreken; over wat er allemaal kan\, de kosten\, verzekeringen en vele andere onderwerpen. En u kunt u afscheidswensen vastleggen als u dat wilt.
URL:https://www.pc.nl/evenement/informatie-uurtje-purmerend/2026-04-15/
LOCATION:Crematorium Purmerend\, Purmerweg 92\, Purmerend\, Noord-Holland\, 1441 RC\, Netherlands
CATEGORIES:PC Uitvaart
ATTACH;FMTTYPE=image/jpeg:https://www.pc.nl/app/uploads/2026/02/Purmerend-004.jpg
END:VEVENT
BEGIN:VEVENT
DTSTART;TZID=Europe/Amsterdam:20260422T110000
DTEND;TZID=Europe/Amsterdam:20260422T120000
DTSTAMP:20260421T185244
CREATED:20260216T100520Z
LAST-MODIFIED:20260224T143847Z
UID:10000040-1776855600-1776859200@www.pc.nl
SUMMARY:Informatie uurtje Purmerend
DESCRIPTION:Speciaal voor alle inwoners van de regio Purmerend organiseert PC Uitvaart een informatie uurtje. Dit houden wij iedere woensdag van 11.00 – 12.00 uur op onze locatie aan de Purmerweg 92a in Purmerend. Tijdens dit informatie uurtje kunt u met onze uitvaartexperts alle denkbare onderwerpen rondom het afscheid bespreken; over wat er allemaal kan\, de kosten\, verzekeringen en vele andere onderwerpen. En u kunt u afscheidswensen vastleggen als u dat wilt.
URL:https://www.pc.nl/evenement/informatie-uurtje-purmerend/2026-04-22/
LOCATION:Crematorium Purmerend\, Purmerweg 92\, Purmerend\, Noord-Holland\, 1441 RC\, Netherlands
CATEGORIES:PC Uitvaart
ATTACH;FMTTYPE=image/jpeg:https://www.pc.nl/app/uploads/2026/02/Purmerend-004.jpg
END:VEVENT
BEGIN:VEVENT
DTSTART;TZID=Europe/Amsterdam:20260429T110000
DTEND;TZID=Europe/Amsterdam:20260429T120000
DTSTAMP:20260421T185244
CREATED:20260216T100520Z
LAST-MODIFIED:20260224T143847Z
UID:10000041-1777460400-1777464000@www.pc.nl
SUMMARY:Informatie uurtje Purmerend
DESCRIPTION:Speciaal voor alle inwoners van de regio Purmerend organiseert PC Uitvaart een informatie uurtje. Dit houden wij iedere woensdag van 11.00 – 12.00 uur op onze locatie aan de Purmerweg 92a in Purmerend. Tijdens dit informatie uurtje kunt u met onze uitvaartexperts alle denkbare onderwerpen rondom het afscheid bespreken; over wat er allemaal kan\, de kosten\, verzekeringen en vele andere onderwerpen. En u kunt u afscheidswensen vastleggen als u dat wilt.
URL:https://www.pc.nl/evenement/informatie-uurtje-purmerend/2026-04-29/
LOCATION:Crematorium Purmerend\, Purmerweg 92\, Purmerend\, Noord-Holland\, 1441 RC\, Netherlands
CATEGORIES:PC Uitvaart
ATTACH;FMTTYPE=image/jpeg:https://www.pc.nl/app/uploads/2026/02/Purmerend-004.jpg
END:VEVENT
BEGIN:VEVENT
DTSTART;TZID=Europe/Amsterdam:20260506T110000
DTEND;TZID=Europe/Amsterdam:20260506T120000
DTSTAMP:20260421T185244
CREATED:20260216T100520Z
LAST-MODIFIED:20260224T143847Z
UID:10000042-1778065200-1778068800@www.pc.nl
SUMMARY:Informatie uurtje Purmerend
DESCRIPTION:Speciaal voor alle inwoners van de regio Purmerend organiseert PC Uitvaart een informatie uurtje. Dit houden wij iedere woensdag van 11.00 – 12.00 uur op onze locatie aan de Purmerweg 92a in Purmerend. Tijdens dit informatie uurtje kunt u met onze uitvaartexperts alle denkbare onderwerpen rondom het afscheid bespreken; over wat er allemaal kan\, de kosten\, verzekeringen en vele andere onderwerpen. En u kunt u afscheidswensen vastleggen als u dat wilt.
URL:https://www.pc.nl/evenement/informatie-uurtje-purmerend/2026-05-06/
LOCATION:Crematorium Purmerend\, Purmerweg 92\, Purmerend\, Noord-Holland\, 1441 RC\, Netherlands
CATEGORIES:PC Uitvaart
ATTACH;FMTTYPE=image/jpeg:https://www.pc.nl/app/uploads/2026/02/Purmerend-004.jpg
END:VEVENT
BEGIN:VEVENT
DTSTART;TZID=Europe/Amsterdam:20260510T100000
DTEND;TZID=Europe/Amsterdam:20260510T130000
DTSTAMP:20260421T185244
CREATED:20260324T140418Z
LAST-MODIFIED:20260325T064119Z
UID:10000108-1778407200-1778418000@www.pc.nl
SUMMARY:Moederdag Crematorium Purmerend
DESCRIPTION:Op zondag 10 mei bent u welkom om een eerbetoon te brengen aan de moeders die er niet meer zijn. Er liggen gratis bloemen voor u klaar. Ook is er koffie en thee en zijn onze collega’s van PC Uitvaart aanwezig voor een goed gesprek.
URL:https://www.pc.nl/evenement/moederdag-crematorium-purmerend/
LOCATION:Crematorium Purmerend\, Purmerweg 92\, Purmerend\, Noord-Holland\, 1441 RC\, Netherlands
CATEGORIES:Nazorg,PC Uitvaart
ATTACH;FMTTYPE=image/jpeg:https://www.pc.nl/app/uploads/2026/03/Moederdagbeeld_2026.jpg
END:VEVENT
BEGIN:VEVENT
DTSTART;TZID=Europe/Amsterdam:20260513T110000
DTEND;TZID=Europe/Amsterdam:20260513T120000
DTSTAMP:20260421T185244
CREATED:20260216T100520Z
LAST-MODIFIED:20260224T143847Z
UID:10000043-1778670000-1778673600@www.pc.nl
SUMMARY:Informatie uurtje Purmerend
DESCRIPTION:Speciaal voor alle inwoners van de regio Purmerend organiseert PC Uitvaart een informatie uurtje. Dit houden wij iedere woensdag van 11.00 – 12.00 uur op onze locatie aan de Purmerweg 92a in Purmerend. Tijdens dit informatie uurtje kunt u met onze uitvaartexperts alle denkbare onderwerpen rondom het afscheid bespreken; over wat er allemaal kan\, de kosten\, verzekeringen en vele andere onderwerpen. En u kunt u afscheidswensen vastleggen als u dat wilt.
URL:https://www.pc.nl/evenement/informatie-uurtje-purmerend/2026-05-13/
LOCATION:Crematorium Purmerend\, Purmerweg 92\, Purmerend\, Noord-Holland\, 1441 RC\, Netherlands
CATEGORIES:PC Uitvaart
ATTACH;FMTTYPE=image/jpeg:https://www.pc.nl/app/uploads/2026/02/Purmerend-004.jpg
END:VEVENT
BEGIN:VEVENT
DTSTART;TZID=Europe/Amsterdam:20260517T113000
DTEND;TZID=Europe/Amsterdam:20260517T140000
DTSTAMP:20260421T185244
CREATED:20260324T131802Z
LAST-MODIFIED:20260324T131802Z
UID:10000100-1779017400-1779026400@www.pc.nl
SUMMARY:Lunchconcert met Anna Sollewijn
DESCRIPTION:Anna Sollewijn is een Amsterdamse jazz-zangeres die R&B\, pop\, soul en fusion op geheel eigen manier samenbrengt. Haar warme stem en ongekende muzikaliteit waren al te bewonderen tijdens optredens op het Grachtenfestival en in het Bimhuis. Recent was Anna op tournee met Karin Bloemen\, daarnaast schrijft ze haar eigen liedjes. Voor PC Uitvaart verzorgt deze veelzijdige zangeres een lunchconcert om even heerlijk bij weg te dromen. \nProgramma\n11.30-13.00 uur: ontvangst met lunch\n13.00-14.00 uur: concert \nKomt u ook?\nHet concert vindt plaats bij Crematorium Purmerend\, Purmerweg 92a in Purmerend. Deelname is gratis.\nTicketverkoop start op 1 mei om 19.00 uur\, bestel hier uw tickets \n*maximaal 2 tickets per persoon
URL:https://www.pc.nl/evenement/lunchconcert-met-anna-sollewijn/
LOCATION:Crematorium Purmerend\, Purmerweg 92\, Purmerend\, Noord-Holland\, 1441 RC\, Netherlands
CATEGORIES:PC Uitvaart
ATTACH;FMTTYPE=image/png:https://www.pc.nl/app/uploads/2026/03/anna-sollewijn.png
END:VEVENT
BEGIN:VEVENT
DTSTART;TZID=Europe/Amsterdam:20260520T110000
DTEND;TZID=Europe/Amsterdam:20260520T120000
DTSTAMP:20260421T185244
CREATED:20260216T100520Z
LAST-MODIFIED:20260224T143847Z
UID:10000044-1779274800-1779278400@www.pc.nl
SUMMARY:Informatie uurtje Purmerend
DESCRIPTION:Speciaal voor alle inwoners van de regio Purmerend organiseert PC Uitvaart een informatie uurtje. Dit houden wij iedere woensdag van 11.00 – 12.00 uur op onze locatie aan de Purmerweg 92a in Purmerend. Tijdens dit informatie uurtje kunt u met onze uitvaartexperts alle denkbare onderwerpen rondom het afscheid bespreken; over wat er allemaal kan\, de kosten\, verzekeringen en vele andere onderwerpen. En u kunt u afscheidswensen vastleggen als u dat wilt.
URL:https://www.pc.nl/evenement/informatie-uurtje-purmerend/2026-05-20/
LOCATION:Crematorium Purmerend\, Purmerweg 92\, Purmerend\, Noord-Holland\, 1441 RC\, Netherlands
CATEGORIES:PC Uitvaart
ATTACH;FMTTYPE=image/jpeg:https://www.pc.nl/app/uploads/2026/02/Purmerend-004.jpg
END:VEVENT
BEGIN:VEVENT
DTSTART;TZID=Europe/Amsterdam:20260527T110000
DTEND;TZID=Europe/Amsterdam:20260527T120000
DTSTAMP:20260421T185244
CREATED:20260216T100520Z
LAST-MODIFIED:20260224T143847Z
UID:10000045-1779879600-1779883200@www.pc.nl
SUMMARY:Informatie uurtje Purmerend
DESCRIPTION:Speciaal voor alle inwoners van de regio Purmerend organiseert PC Uitvaart een informatie uurtje. Dit houden wij iedere woensdag van 11.00 – 12.00 uur op onze locatie aan de Purmerweg 92a in Purmerend. Tijdens dit informatie uurtje kunt u met onze uitvaartexperts alle denkbare onderwerpen rondom het afscheid bespreken; over wat er allemaal kan\, de kosten\, verzekeringen en vele andere onderwerpen. En u kunt u afscheidswensen vastleggen als u dat wilt.
URL:https://www.pc.nl/evenement/informatie-uurtje-purmerend/2026-05-27/
LOCATION:Crematorium Purmerend\, Purmerweg 92\, Purmerend\, Noord-Holland\, 1441 RC\, Netherlands
CATEGORIES:PC Uitvaart
ATTACH;FMTTYPE=image/jpeg:https://www.pc.nl/app/uploads/2026/02/Purmerend-004.jpg
END:VEVENT
BEGIN:VEVENT
DTSTART;TZID=Europe/Amsterdam:20260603T110000
DTEND;TZID=Europe/Amsterdam:20260603T120000
DTSTAMP:20260421T185244
CREATED:20260216T100520Z
LAST-MODIFIED:20260224T143847Z
UID:10000046-1780484400-1780488000@www.pc.nl
SUMMARY:Informatie uurtje Purmerend
DESCRIPTION:Speciaal voor alle inwoners van de regio Purmerend organiseert PC Uitvaart een informatie uurtje. Dit houden wij iedere woensdag van 11.00 – 12.00 uur op onze locatie aan de Purmerweg 92a in Purmerend. Tijdens dit informatie uurtje kunt u met onze uitvaartexperts alle denkbare onderwerpen rondom het afscheid bespreken; over wat er allemaal kan\, de kosten\, verzekeringen en vele andere onderwerpen. En u kunt u afscheidswensen vastleggen als u dat wilt.
URL:https://www.pc.nl/evenement/informatie-uurtje-purmerend/2026-06-03/
LOCATION:Crematorium Purmerend\, Purmerweg 92\, Purmerend\, Noord-Holland\, 1441 RC\, Netherlands
CATEGORIES:PC Uitvaart
ATTACH;FMTTYPE=image/jpeg:https://www.pc.nl/app/uploads/2026/02/Purmerend-004.jpg
END:VEVENT
BEGIN:VEVENT
DTSTART;TZID=Europe/Amsterdam:20260610T110000
DTEND;TZID=Europe/Amsterdam:20260610T120000
DTSTAMP:20260421T185244
CREATED:20260216T100520Z
LAST-MODIFIED:20260224T143847Z
UID:10000047-1781089200-1781092800@www.pc.nl
SUMMARY:Informatie uurtje Purmerend
DESCRIPTION:Speciaal voor alle inwoners van de regio Purmerend organiseert PC Uitvaart een informatie uurtje. Dit houden wij iedere woensdag van 11.00 – 12.00 uur op onze locatie aan de Purmerweg 92a in Purmerend. Tijdens dit informatie uurtje kunt u met onze uitvaartexperts alle denkbare onderwerpen rondom het afscheid bespreken; over wat er allemaal kan\, de kosten\, verzekeringen en vele andere onderwerpen. En u kunt u afscheidswensen vastleggen als u dat wilt.
URL:https://www.pc.nl/evenement/informatie-uurtje-purmerend/2026-06-10/
LOCATION:Crematorium Purmerend\, Purmerweg 92\, Purmerend\, Noord-Holland\, 1441 RC\, Netherlands
CATEGORIES:PC Uitvaart
ATTACH;FMTTYPE=image/jpeg:https://www.pc.nl/app/uploads/2026/02/Purmerend-004.jpg
END:VEVENT
BEGIN:VEVENT
DTSTART;TZID=Europe/Amsterdam:20260617T110000
DTEND;TZID=Europe/Amsterdam:20260617T120000
DTSTAMP:20260421T185244
CREATED:20260216T100520Z
LAST-MODIFIED:20260224T143847Z
UID:10000048-1781694000-1781697600@www.pc.nl
SUMMARY:Informatie uurtje Purmerend
DESCRIPTION:Speciaal voor alle inwoners van de regio Purmerend organiseert PC Uitvaart een informatie uurtje. Dit houden wij iedere woensdag van 11.00 – 12.00 uur op onze locatie aan de Purmerweg 92a in Purmerend. Tijdens dit informatie uurtje kunt u met onze uitvaartexperts alle denkbare onderwerpen rondom het afscheid bespreken; over wat er allemaal kan\, de kosten\, verzekeringen en vele andere onderwerpen. En u kunt u afscheidswensen vastleggen als u dat wilt.
URL:https://www.pc.nl/evenement/informatie-uurtje-purmerend/2026-06-17/
LOCATION:Crematorium Purmerend\, Purmerweg 92\, Purmerend\, Noord-Holland\, 1441 RC\, Netherlands
CATEGORIES:PC Uitvaart
ATTACH;FMTTYPE=image/jpeg:https://www.pc.nl/app/uploads/2026/02/Purmerend-004.jpg
END:VEVENT
BEGIN:VEVENT
DTSTART;TZID=Europe/Amsterdam:20260624T110000
DTEND;TZID=Europe/Amsterdam:20260624T120000
DTSTAMP:20260421T185244
CREATED:20260216T100520Z
LAST-MODIFIED:20260224T143847Z
UID:10000049-1782298800-1782302400@www.pc.nl
SUMMARY:Informatie uurtje Purmerend
DESCRIPTION:Speciaal voor alle inwoners van de regio Purmerend organiseert PC Uitvaart een informatie uurtje. Dit houden wij iedere woensdag van 11.00 – 12.00 uur op onze locatie aan de Purmerweg 92a in Purmerend. Tijdens dit informatie uurtje kunt u met onze uitvaartexperts alle denkbare onderwerpen rondom het afscheid bespreken; over wat er allemaal kan\, de kosten\, verzekeringen en vele andere onderwerpen. En u kunt u afscheidswensen vastleggen als u dat wilt.
URL:https://www.pc.nl/evenement/informatie-uurtje-purmerend/2026-06-24/
LOCATION:Crematorium Purmerend\, Purmerweg 92\, Purmerend\, Noord-Holland\, 1441 RC\, Netherlands
CATEGORIES:PC Uitvaart
ATTACH;FMTTYPE=image/jpeg:https://www.pc.nl/app/uploads/2026/02/Purmerend-004.jpg
END:VEVENT
END:VCALENDAR