BEGIN:VCALENDAR
VERSION:2.0
PRODID:-//PC Uitvaart - ECPv6.15.18//NONSGML v1.0//EN
CALSCALE:GREGORIAN
METHOD:PUBLISH
X-ORIGINAL-URL:https://www.pc.nl
X-WR-CALDESC:Evenementen voor PC Uitvaart
REFRESH-INTERVAL;VALUE=DURATION:PT1H
X-Robots-Tag:noindex
X-PUBLISHED-TTL:PT1H
BEGIN:VTIMEZONE
TZID:Europe/Amsterdam
BEGIN:DAYLIGHT
TZOFFSETFROM:+0100
TZOFFSETTO:+0200
TZNAME:CEST
DTSTART:20250330T010000
END:DAYLIGHT
BEGIN:STANDARD
TZOFFSETFROM:+0200
TZOFFSETTO:+0100
TZNAME:CET
DTSTART:20251026T010000
END:STANDARD
BEGIN:DAYLIGHT
TZOFFSETFROM:+0100
TZOFFSETTO:+0200
TZNAME:CEST
DTSTART:20260329T010000
END:DAYLIGHT
BEGIN:STANDARD
TZOFFSETFROM:+0200
TZOFFSETTO:+0100
TZNAME:CET
DTSTART:20261025T010000
END:STANDARD
BEGIN:DAYLIGHT
TZOFFSETFROM:+0100
TZOFFSETTO:+0200
TZNAME:CEST
DTSTART:20270328T010000
END:DAYLIGHT
BEGIN:STANDARD
TZOFFSETFROM:+0200
TZOFFSETTO:+0100
TZNAME:CET
DTSTART:20271031T010000
END:STANDARD
END:VTIMEZONE
BEGIN:VEVENT
DTSTART;TZID=Europe/Amsterdam:20260304T110000
DTEND;TZID=Europe/Amsterdam:20260304T120000
DTSTAMP:20260421T154711
CREATED:20260216T100520Z
LAST-MODIFIED:20260224T143847Z
UID:10000033-1772622000-1772625600@www.pc.nl
SUMMARY:Informatie uurtje Purmerend
DESCRIPTION:Speciaal voor alle inwoners van de regio Purmerend organiseert PC Uitvaart een informatie uurtje. Dit houden wij iedere woensdag van 11.00 – 12.00 uur op onze locatie aan de Purmerweg 92a in Purmerend. Tijdens dit informatie uurtje kunt u met onze uitvaartexperts alle denkbare onderwerpen rondom het afscheid bespreken; over wat er allemaal kan\, de kosten\, verzekeringen en vele andere onderwerpen. En u kunt u afscheidswensen vastleggen als u dat wilt.
URL:https://www.pc.nl/evenement/informatie-uurtje-purmerend/2026-03-04/
LOCATION:Crematorium Purmerend\, Purmerweg 92\, Purmerend\, Noord-Holland\, 1441 RC\, Netherlands
CATEGORIES:PC Uitvaart
ATTACH;FMTTYPE=image/jpeg:https://www.pc.nl/app/uploads/2026/02/Purmerend-004.jpg
END:VEVENT
BEGIN:VEVENT
DTSTART;TZID=Europe/Amsterdam:20260311T110000
DTEND;TZID=Europe/Amsterdam:20260311T120000
DTSTAMP:20260421T154711
CREATED:20260216T100520Z
LAST-MODIFIED:20260224T143847Z
UID:10000034-1773226800-1773230400@www.pc.nl
SUMMARY:Informatie uurtje Purmerend
DESCRIPTION:Speciaal voor alle inwoners van de regio Purmerend organiseert PC Uitvaart een informatie uurtje. Dit houden wij iedere woensdag van 11.00 – 12.00 uur op onze locatie aan de Purmerweg 92a in Purmerend. Tijdens dit informatie uurtje kunt u met onze uitvaartexperts alle denkbare onderwerpen rondom het afscheid bespreken; over wat er allemaal kan\, de kosten\, verzekeringen en vele andere onderwerpen. En u kunt u afscheidswensen vastleggen als u dat wilt.
URL:https://www.pc.nl/evenement/informatie-uurtje-purmerend/2026-03-11/
LOCATION:Crematorium Purmerend\, Purmerweg 92\, Purmerend\, Noord-Holland\, 1441 RC\, Netherlands
CATEGORIES:PC Uitvaart
ATTACH;FMTTYPE=image/jpeg:https://www.pc.nl/app/uploads/2026/02/Purmerend-004.jpg
END:VEVENT
BEGIN:VEVENT
DTSTART;TZID=Europe/Amsterdam:20260318T110000
DTEND;TZID=Europe/Amsterdam:20260318T120000
DTSTAMP:20260421T154711
CREATED:20260216T100520Z
LAST-MODIFIED:20260224T143847Z
UID:10000035-1773831600-1773835200@www.pc.nl
SUMMARY:Informatie uurtje Purmerend
DESCRIPTION:Speciaal voor alle inwoners van de regio Purmerend organiseert PC Uitvaart een informatie uurtje. Dit houden wij iedere woensdag van 11.00 – 12.00 uur op onze locatie aan de Purmerweg 92a in Purmerend. Tijdens dit informatie uurtje kunt u met onze uitvaartexperts alle denkbare onderwerpen rondom het afscheid bespreken; over wat er allemaal kan\, de kosten\, verzekeringen en vele andere onderwerpen. En u kunt u afscheidswensen vastleggen als u dat wilt.
URL:https://www.pc.nl/evenement/informatie-uurtje-purmerend/2026-03-18/
LOCATION:Crematorium Purmerend\, Purmerweg 92\, Purmerend\, Noord-Holland\, 1441 RC\, Netherlands
CATEGORIES:PC Uitvaart
ATTACH;FMTTYPE=image/jpeg:https://www.pc.nl/app/uploads/2026/02/Purmerend-004.jpg
END:VEVENT
BEGIN:VEVENT
DTSTART;TZID=Europe/Amsterdam:20260325T110000
DTEND;TZID=Europe/Amsterdam:20260325T120000
DTSTAMP:20260421T154711
CREATED:20260216T100520Z
LAST-MODIFIED:20260224T143847Z
UID:10000036-1774436400-1774440000@www.pc.nl
SUMMARY:Informatie uurtje Purmerend
DESCRIPTION:Speciaal voor alle inwoners van de regio Purmerend organiseert PC Uitvaart een informatie uurtje. Dit houden wij iedere woensdag van 11.00 – 12.00 uur op onze locatie aan de Purmerweg 92a in Purmerend. Tijdens dit informatie uurtje kunt u met onze uitvaartexperts alle denkbare onderwerpen rondom het afscheid bespreken; over wat er allemaal kan\, de kosten\, verzekeringen en vele andere onderwerpen. En u kunt u afscheidswensen vastleggen als u dat wilt.
URL:https://www.pc.nl/evenement/informatie-uurtje-purmerend/2026-03-25/
LOCATION:Crematorium Purmerend\, Purmerweg 92\, Purmerend\, Noord-Holland\, 1441 RC\, Netherlands
CATEGORIES:PC Uitvaart
ATTACH;FMTTYPE=image/jpeg:https://www.pc.nl/app/uploads/2026/02/Purmerend-004.jpg
END:VEVENT
END:VCALENDAR